Package: mgsa Version: 1.57.0 Command: chmod a+r mgsa -R && F:\biocbuild\bbs-3.22-bioc\R\bin\R.exe CMD build --keep-empty-dirs --no-resave-data mgsa StartedAt: 2025-08-14 21:26:56 -0400 (Thu, 14 Aug 2025) EndedAt: 2025-08-14 21:27:39 -0400 (Thu, 14 Aug 2025) EllapsedTime: 42.7 seconds RetCode: 0 Status: OK PackageFile: mgsa_1.57.0.tar.gz PackageFileSize: 301.3 KiB