Package: mgsa Version: 1.58.0 Command: /Library/Frameworks/R.framework/Resources/bin/R CMD check --install=check:mgsa.install-out.txt --library=/Library/Frameworks/R.framework/Resources/library --no-vignettes --timings mgsa_1.58.0.tar.gz StartedAt: 2025-10-31 22:26:21 -0400 (Fri, 31 Oct 2025) EndedAt: 2025-10-31 22:29:51 -0400 (Fri, 31 Oct 2025) EllapsedTime: 209.5 seconds RetCode: 0 Status: WARNINGS CheckDir: mgsa.Rcheck Warnings: 1