Package: mfa Version: 1.31.0 Command: F:\biocbuild\bbs-3.22-bioc\R\bin\R.exe CMD check --no-multiarch --install=check:mfa.install-out.txt --library=F:\biocbuild\bbs-3.22-bioc\R\library --no-vignettes --timings mfa_1.31.0.tar.gz StartedAt: 2025-08-15 05:06:23 -0400 (Fri, 15 Aug 2025) EndedAt: 2025-08-15 05:08:21 -0400 (Fri, 15 Aug 2025) EllapsedTime: 117.8 seconds RetCode: 0 Status: OK CheckDir: mfa.Rcheck Warnings: 0