Package: mfa Version: 1.30.0 Command: /home/biocbuild/bbs-3.21-bioc/R/bin/R CMD INSTALL mfa StartedAt: 2025-10-01 15:15:53 -0400 (Wed, 01 Oct 2025) EndedAt: 2025-10-01 15:16:11 -0400 (Wed, 01 Oct 2025) EllapsedTime: 17.7 seconds RetCode: 0 Status: OK