Package: mfa Version: 1.30.0 Command: /home/biocbuild/bbs-3.21-bioc/R/bin/R CMD build --keep-empty-dirs --no-resave-data mfa StartedAt: 2025-10-01 18:33:17 -0400 (Wed, 01 Oct 2025) EndedAt: 2025-10-01 18:33:44 -0400 (Wed, 01 Oct 2025) EllapsedTime: 27.0 seconds RetCode: 1 Status: ERROR PackageFile: None PackageFileSize: NA