Package: methylumi Version: 2.54.0 Command: /home/biocbuild/bbs-3.21-bioc/R/bin/R CMD INSTALL methylumi StartedAt: 2025-10-15 15:58:41 -0400 (Wed, 15 Oct 2025) EndedAt: 2025-10-15 15:59:40 -0400 (Wed, 15 Oct 2025) EllapsedTime: 58.8 seconds RetCode: 0 Status: OK