Package: methylumi Version: 2.54.0 Command: /home/biocbuild/bbs-3.21-bioc/R/bin/R CMD build --keep-empty-dirs --no-resave-data methylumi StartedAt: 2025-10-15 18:29:01 -0400 (Wed, 15 Oct 2025) EndedAt: 2025-10-15 18:32:21 -0400 (Wed, 15 Oct 2025) EllapsedTime: 200.2 seconds RetCode: 0 Status: OK PackageFile: methylumi_2.54.0.tar.gz PackageFileSize: 7.346 MiB