Package: methylscaper Version: 1.17.0 Command: /home/biocbuild/R/R/bin/R CMD build --keep-empty-dirs --no-resave-data methylscaper StartedAt: 2025-10-21 01:10:53 -0000 (Tue, 21 Oct 2025) EndedAt: 2025-10-21 01:13:59 -0000 (Tue, 21 Oct 2025) EllapsedTime: 186.1 seconds RetCode: 0 Status: OK PackageFile: methylscaper_1.17.0.tar.gz PackageFileSize: 3.866 MiB