Package: methylscaper Version: 1.18.0 Command: /home/biocbuild/bbs-3.22-bioc/R/bin/R CMD check --install=check:methylscaper.install-out.txt --library=/home/biocbuild/bbs-3.22-bioc/R/site-library --timings methylscaper_1.18.0.tar.gz StartedAt: 2025-11-07 01:18:50 -0500 (Fri, 07 Nov 2025) EndedAt: 2025-11-07 01:23:19 -0500 (Fri, 07 Nov 2025) EllapsedTime: 269.2 seconds RetCode: 0 Status: OK CheckDir: methylscaper.Rcheck Warnings: 0