Package: methylclock Version: 1.14.0 Command: chmod a+r methylclock -R && E:\biocbuild\bbs-3.21-bioc\R\bin\R.exe CMD build --keep-empty-dirs --no-resave-data methylclock StartedAt: 2025-08-14 20:18:40 -0400 (Thu, 14 Aug 2025) EndedAt: 2025-08-14 20:30:04 -0400 (Thu, 14 Aug 2025) EllapsedTime: 684.1 seconds RetCode: 0 Status: OK PackageFile: methylclock_1.14.0.tar.gz PackageFileSize: 628.1 KiB