Package: methylclock Version: 1.14.0 Command: /Library/Frameworks/R.framework/Resources/bin/R CMD INSTALL methylclock StartedAt: 2025-04-21 15:42:01 -0400 (Mon, 21 Apr 2025) EndedAt: 2025-04-21 15:43:36 -0400 (Mon, 21 Apr 2025) EllapsedTime: 95.3 seconds RetCode: 0 Status: OK