Package: methylclock Version: 1.14.0 Command: /Library/Frameworks/R.framework/Resources/bin/R CMD check --install=check:methylclock.install-out.txt --library=/Library/Frameworks/R.framework/Resources/library --no-vignettes --timings methylclock_1.14.0.tar.gz StartedAt: 2025-04-20 21:49:43 -0400 (Sun, 20 Apr 2025) EndedAt: 2025-04-20 22:01:00 -0400 (Sun, 20 Apr 2025) EllapsedTime: 677.4 seconds RetCode: 0 Status: OK CheckDir: methylclock.Rcheck Warnings: 0