Package: methylSig Version: 1.20.0 Command: /Library/Frameworks/R.framework/Resources/bin/R CMD check --install=check:methylSig.install-out.txt --library=/Library/Frameworks/R.framework/Resources/library --no-vignettes --timings methylSig_1.20.0.tar.gz StartedAt: 2025-10-10 06:23:16 -0400 (Fri, 10 Oct 2025) EndedAt: 2025-10-10 06:34:08 -0400 (Fri, 10 Oct 2025) EllapsedTime: 652.0 seconds RetCode: 0 Status: OK CheckDir: methylSig.Rcheck Warnings: 0