Package: methylSig Version: 1.20.0 Command: rm -rf methylSig.buildbin-libdir && mkdir methylSig.buildbin-libdir && /Users/biocbuild/BBS/utils/build-universal.sh methylSig_1.20.0.tar.gz /Library/Frameworks/R.framework/Resources/bin/R methylSig.buildbin-libdir StartedAt: 2025-10-10 14:01:45 -0400 (Fri, 10 Oct 2025) EndedAt: 2025-10-10 14:04:45 -0400 (Fri, 10 Oct 2025) EllapsedTime: 179.9 seconds RetCode: 0 Status: OK PackageFile: methylSig_1.20.0.tgz PackageFileSize: 582.5 KiB