Package: methylPipe Version: 1.44.0 Command: /home/biocbuild/R/R/bin/R CMD check --install=check:methylPipe.install-out.txt --library=/home/biocbuild/R/R/site-library --no-vignettes --timings methylPipe_1.44.0.tar.gz StartedAt: 2025-11-21 12:43:00 -0000 (Fri, 21 Nov 2025) EndedAt: 2025-11-21 12:52:37 -0000 (Fri, 21 Nov 2025) EllapsedTime: 576.5 seconds RetCode: 0 Status: WARNINGS CheckDir: methylPipe.Rcheck Warnings: 2