Package: methylPipe Version: 1.43.1 Command: /home/biocbuild/R/R/bin/R CMD build --keep-empty-dirs --no-resave-data methylPipe StartedAt: 2025-10-21 01:10:29 -0000 (Tue, 21 Oct 2025) EndedAt: 2025-10-21 01:13:39 -0000 (Tue, 21 Oct 2025) EllapsedTime: 190.1 seconds RetCode: 0 Status: OK PackageFile: methylPipe_1.43.1.tar.gz PackageFileSize: 785.5 KiB