Package: methylMnM Version: 1.46.0 Command: rm -rf methylMnM.buildbin-libdir && mkdir methylMnM.buildbin-libdir && /Users/biocbuild/BBS/utils/build-universal.sh methylMnM_1.46.0.tar.gz /Library/Frameworks/R.framework/Resources/bin/R methylMnM.buildbin-libdir StartedAt: 2025-10-14 14:00:40 -0400 (Tue, 14 Oct 2025) EndedAt: 2025-10-14 14:01:35 -0400 (Tue, 14 Oct 2025) EllapsedTime: 55.1 seconds RetCode: 0 Status: OK PackageFile: methylMnM_1.46.0.tgz PackageFileSize: 8.86 MiB