Package: methylKit Version: 1.34.0 Command: E:\biocbuild\bbs-3.21-bioc\R\bin\R.exe CMD check --no-multiarch --install=check:methylKit.install-out.txt --library=E:\biocbuild\bbs-3.21-bioc\R\library --no-vignettes --timings methylKit_1.34.0.tar.gz StartedAt: 2025-08-15 04:01:24 -0400 (Fri, 15 Aug 2025) EndedAt: 2025-08-15 04:10:24 -0400 (Fri, 15 Aug 2025) EllapsedTime: 539.8 seconds RetCode: 0 Status: OK CheckDir: methylKit.Rcheck Warnings: 0