Package: methylInheritance Version: 1.34.0 Command: /home/biocbuild/bbs-3.22-bioc/R/bin/R CMD INSTALL methylInheritance StartedAt: 2025-11-17 17:40:45 -0500 (Mon, 17 Nov 2025) EndedAt: 2025-11-17 17:41:24 -0500 (Mon, 17 Nov 2025) EllapsedTime: 39.3 seconds RetCode: 0 Status: OK