Package: methylCC Version: 1.22.0 Command: /home/biocbuild/bbs-3.21-bioc/R/bin/R CMD build --keep-empty-dirs --no-resave-data methylCC StartedAt: 2025-10-15 18:25:57 -0400 (Wed, 15 Oct 2025) EndedAt: 2025-10-15 18:29:29 -0400 (Wed, 15 Oct 2025) EllapsedTime: 211.1 seconds RetCode: 0 Status: OK PackageFile: methylCC_1.22.0.tar.gz PackageFileSize: 4.374 MiB