Package: methylCC Version: 1.22.0 Command: /Library/Frameworks/R.framework/Resources/bin/R CMD INSTALL methylCC StartedAt: 2025-10-13 16:19:22 -0400 (Mon, 13 Oct 2025) EndedAt: 2025-10-13 16:21:08 -0400 (Mon, 13 Oct 2025) EllapsedTime: 106.0 seconds RetCode: 0 Status: OK