Package: methylCC Version: 1.22.0 Command: /Library/Frameworks/R.framework/Resources/bin/R CMD check --install=check:methylCC.install-out.txt --library=/Library/Frameworks/R.framework/Resources/library --no-vignettes --timings methylCC_1.22.0.tar.gz StartedAt: 2025-10-14 06:18:29 -0400 (Tue, 14 Oct 2025) EndedAt: 2025-10-14 06:32:41 -0400 (Tue, 14 Oct 2025) EllapsedTime: 852.6 seconds RetCode: 0 Status: OK CheckDir: methylCC.Rcheck Warnings: 0