Package: methylCC Version: 1.22.0 Command: /Library/Frameworks/R.framework/Resources/bin/R CMD build --keep-empty-dirs --no-resave-data methylCC StartedAt: 2025-10-13 20:25:37 -0400 (Mon, 13 Oct 2025) EndedAt: 2025-10-13 20:32:28 -0400 (Mon, 13 Oct 2025) EllapsedTime: 410.6 seconds RetCode: 0 Status: OK PackageFile: methylCC_1.22.0.tar.gz PackageFileSize: 4.378 MiB