Package: methylCC Version: 1.22.0 Command: /Library/Frameworks/R.framework/Resources/bin/R CMD INSTALL methylCC StartedAt: 2025-10-13 17:31:41 -0400 (Mon, 13 Oct 2025) EndedAt: 2025-10-13 17:32:40 -0400 (Mon, 13 Oct 2025) EllapsedTime: 59.1 seconds RetCode: 0 Status: OK