Package: methylCC Version: 1.22.0 Command: /Library/Frameworks/R.framework/Resources/bin/R CMD build --keep-empty-dirs --no-resave-data methylCC StartedAt: 2025-10-14 04:05:26 -0400 (Tue, 14 Oct 2025) EndedAt: 2025-10-14 04:10:19 -0400 (Tue, 14 Oct 2025) EllapsedTime: 293.7 seconds RetCode: 0 Status: OK PackageFile: methylCC_1.22.0.tar.gz PackageFileSize: 4.378 MiB