Package: methyLImp2 Version: 1.4.0 Command: /Library/Frameworks/R.framework/Resources/bin/R CMD INSTALL methyLImp2 StartedAt: 2025-09-29 15:55:27 -0400 (Mon, 29 Sep 2025) EndedAt: 2025-09-29 15:56:12 -0400 (Mon, 29 Sep 2025) EllapsedTime: 45.0 seconds RetCode: 0 Status: OK