Package: methimpute Version: 1.31.0 Command: /home/biocbuild/R/R/bin/R CMD check --install=check:methimpute.install-out.txt --library=/home/biocbuild/R/R/site-library --no-vignettes --timings methimpute_1.31.0.tar.gz StartedAt: 2025-10-17 10:52:20 -0000 (Fri, 17 Oct 2025) EndedAt: 2025-10-17 10:55:29 -0000 (Fri, 17 Oct 2025) EllapsedTime: 189.1 seconds RetCode: 0 Status: WARNINGS CheckDir: methimpute.Rcheck Warnings: 1