Package: methimpute Version: 1.32.0 Command: /home/biocbuild/bbs-3.22-bioc/R/bin/R CMD INSTALL methimpute StartedAt: 2025-11-06 15:15:39 -0500 (Thu, 06 Nov 2025) EndedAt: 2025-11-06 15:16:22 -0500 (Thu, 06 Nov 2025) EllapsedTime: 42.7 seconds RetCode: 0 Status: OK