Package: methimpute Version: 1.32.0 Command: /home/biocbuild/bbs-3.22-bioc/R/bin/R CMD check --install=check:methimpute.install-out.txt --library=/home/biocbuild/bbs-3.22-bioc/R/site-library --timings methimpute_1.32.0.tar.gz StartedAt: 2025-11-07 01:13:11 -0500 (Fri, 07 Nov 2025) EndedAt: 2025-11-07 01:16:53 -0500 (Fri, 07 Nov 2025) EllapsedTime: 222.2 seconds RetCode: 0 Status: WARNINGS CheckDir: methimpute.Rcheck Warnings: 1