Package: methimpute Version: 1.32.0 Command: /Library/Frameworks/R.framework/Resources/bin/R CMD check --install=check:methimpute.install-out.txt --library=/Library/Frameworks/R.framework/Resources/library --no-vignettes --timings methimpute_1.32.0.tar.gz StartedAt: 2025-11-03 22:22:39 -0500 (Mon, 03 Nov 2025) EndedAt: 2025-11-03 22:25:26 -0500 (Mon, 03 Nov 2025) EllapsedTime: 167.9 seconds RetCode: 0 Status: WARNINGS CheckDir: methimpute.Rcheck Warnings: 1