Package: methimpute Version: 1.32.0 Command: /Library/Frameworks/R.framework/Resources/bin/R CMD build --keep-empty-dirs --no-resave-data methimpute StartedAt: 2025-11-03 17:40:49 -0500 (Mon, 03 Nov 2025) EndedAt: 2025-11-03 17:43:09 -0500 (Mon, 03 Nov 2025) EllapsedTime: 140.1 seconds RetCode: 0 Status: OK PackageFile: methimpute_1.32.0.tar.gz PackageFileSize: 1.268 MiB