Package: methimpute Version: 1.32.0 Command: rm -rf methimpute.buildbin-libdir && mkdir methimpute.buildbin-libdir && /Users/biocbuild/BBS/utils/build-universal.sh methimpute_1.32.0.tar.gz /Library/Frameworks/R.framework/Resources/bin/R methimpute.buildbin-libdir StartedAt: 2025-11-04 01:48:59 -0500 (Tue, 04 Nov 2025) EndedAt: 2025-11-04 01:49:57 -0500 (Tue, 04 Nov 2025) EllapsedTime: 57.4 seconds RetCode: 0 Status: OK PackageFile: methimpute_1.32.0.tgz PackageFileSize: 1.523 MiB