Package: methimpute Version: 1.32.0 Command: /Library/Frameworks/R.framework/Resources/bin/R CMD check --install=check:methimpute.install-out.txt --library=/Library/Frameworks/R.framework/Resources/library --no-vignettes --timings methimpute_1.32.0.tar.gz StartedAt: 2025-11-06 20:38:14 -0500 (Thu, 06 Nov 2025) EndedAt: 2025-11-06 20:39:14 -0500 (Thu, 06 Nov 2025) EllapsedTime: 59.7 seconds RetCode: 0 Status: WARNINGS CheckDir: methimpute.Rcheck Warnings: 1