Package: methimpute Version: 1.32.0 Command: /Library/Frameworks/R.framework/Resources/bin/R CMD build --keep-empty-dirs --no-resave-data methimpute StartedAt: 2025-11-06 16:56:31 -0500 (Thu, 06 Nov 2025) EndedAt: 2025-11-06 16:57:17 -0500 (Thu, 06 Nov 2025) EllapsedTime: 45.5 seconds RetCode: 0 Status: OK PackageFile: methimpute_1.32.0.tar.gz PackageFileSize: 1.268 MiB