Package: methimpute Version: 1.32.0 Maintainer: Aaron Taudt MaintainerEmail: aaron.taudt at gmail.com git_url: https://git.bioconductor.org/packages/methimpute git_branch: RELEASE_3_22 git_last_commit: 655a3e7 git_last_commit_date: 2025-10-29 10:41:18 -0500 (Wed, 29 Oct 2025)