Package: metaseqR2 Version: 1.21.1 Command: F:\biocbuild\bbs-3.22-bioc\R\bin\R.exe CMD check --no-multiarch --install=check:metaseqR2.install-out.txt --library=F:\biocbuild\bbs-3.22-bioc\R\library --no-vignettes --timings metaseqR2_1.21.1.tar.gz StartedAt: 2025-08-15 04:58:31 -0400 (Fri, 15 Aug 2025) EndedAt: 2025-08-15 05:09:26 -0400 (Fri, 15 Aug 2025) EllapsedTime: 655.3 seconds RetCode: 0 Status: OK CheckDir: metaseqR2.Rcheck Warnings: 0