Package: metahdep Version: 1.66.0 Command: /Library/Frameworks/R.framework/Resources/bin/R CMD check --install=check:metahdep.install-out.txt --library=/Library/Frameworks/R.framework/Resources/library --no-vignettes --timings metahdep_1.66.0.tar.gz StartedAt: 2025-10-14 06:14:37 -0400 (Tue, 14 Oct 2025) EndedAt: 2025-10-14 06:15:28 -0400 (Tue, 14 Oct 2025) EllapsedTime: 51.3 seconds RetCode: 0 Status: WARNINGS CheckDir: metahdep.Rcheck Warnings: 1