Package: metahdep Version: 1.66.0 Command: /Library/Frameworks/R.framework/Resources/bin/R CMD build --keep-empty-dirs --no-resave-data metahdep StartedAt: 2025-10-13 20:21:54 -0400 (Mon, 13 Oct 2025) EndedAt: 2025-10-13 20:22:16 -0400 (Mon, 13 Oct 2025) EllapsedTime: 22.1 seconds RetCode: 0 Status: OK PackageFile: metahdep_1.66.0.tar.gz PackageFileSize: 550.4 KiB