Package: metahdep Version: 1.66.0 Command: /Library/Frameworks/R.framework/Resources/bin/R CMD check --install=check:metahdep.install-out.txt --library=/Library/Frameworks/R.framework/Resources/library --no-vignettes --timings metahdep_1.66.0.tar.gz StartedAt: 2025-04-21 21:45:38 -0400 (Mon, 21 Apr 2025) EndedAt: 2025-04-21 21:46:14 -0400 (Mon, 21 Apr 2025) EllapsedTime: 35.6 seconds RetCode: 0 Status: WARNINGS CheckDir: metahdep.Rcheck Warnings: 1