Package: metahdep Version: 1.66.0 Command: /home/biocbuild/R/R/bin/R CMD INSTALL metahdep StartedAt: 2025-10-13 20:12:41 -0000 (Mon, 13 Oct 2025) EndedAt: 2025-10-13 20:12:47 -0000 (Mon, 13 Oct 2025) EllapsedTime: 6.0 seconds RetCode: 1 Status: ERROR