Package: metagenomeSeq Version: 1.50.0 Maintainer: Joseph N. Paulson MaintainerEmail: josephpaulson at gmail.com git_url: https://git.bioconductor.org/packages/metagenomeSeq git_branch: RELEASE_3_21 git_last_commit: 0acf3eb git_last_commit_date: 2025-04-15 10:23:34 -0400 (Tue, 15 Apr 2025)