Package: metabinR Version: 1.12.0 Command: /home/biocbuild/bbs-3.22-bioc/R/bin/R CMD INSTALL metabinR StartedAt: 2025-11-06 15:02:41 -0500 (Thu, 06 Nov 2025) EndedAt: 2025-11-06 15:02:59 -0500 (Thu, 06 Nov 2025) EllapsedTime: 18.2 seconds RetCode: 0 Status: OK