Package: metabinR Version: 1.12.0 Command: /Library/Frameworks/R.framework/Resources/bin/R CMD INSTALL metabinR StartedAt: 2025-11-03 15:10:14 -0500 (Mon, 03 Nov 2025) EndedAt: 2025-11-03 15:10:53 -0500 (Mon, 03 Nov 2025) EllapsedTime: 39.3 seconds RetCode: 0 Status: OK