Package: metabinR Version: 1.12.0 Command: /Library/Frameworks/R.framework/Resources/bin/R CMD build --keep-empty-dirs --no-resave-data metabinR StartedAt: 2025-11-03 17:39:13 -0500 (Mon, 03 Nov 2025) EndedAt: 2025-11-03 17:40:03 -0500 (Mon, 03 Nov 2025) EllapsedTime: 50.3 seconds RetCode: 0 Status: OK PackageFile: metabinR_1.12.0.tar.gz PackageFileSize: 4.388 MiB