Package: metabinR Version: 1.12.0 Command: rm -rf metabinR.buildbin-libdir && mkdir metabinR.buildbin-libdir && /Users/biocbuild/BBS/utils/build-universal.sh metabinR_1.12.0.tar.gz /Library/Frameworks/R.framework/Resources/bin/R metabinR.buildbin-libdir StartedAt: 2025-11-04 01:48:36 -0500 (Tue, 04 Nov 2025) EndedAt: 2025-11-04 01:48:44 -0500 (Tue, 04 Nov 2025) EllapsedTime: 7.9 seconds RetCode: 0 Status: OK PackageFile: metabinR_1.12.0.tgz PackageFileSize: 4.366 MiB