Package: metabinR Version: 1.12.0 Command: /Library/Frameworks/R.framework/Resources/bin/R CMD INSTALL metabinR StartedAt: 2025-11-06 15:02:07 -0500 (Thu, 06 Nov 2025) EndedAt: 2025-11-06 15:02:14 -0500 (Thu, 06 Nov 2025) EllapsedTime: 6.7 seconds RetCode: 0 Status: OK