Package: metabinR Version: 1.12.0 Command: /Library/Frameworks/R.framework/Resources/bin/R CMD check --install=check:metabinR.install-out.txt --library=/Library/Frameworks/R.framework/Resources/library --no-vignettes --timings metabinR_1.12.0.tar.gz StartedAt: 2025-11-06 20:36:16 -0500 (Thu, 06 Nov 2025) EndedAt: 2025-11-06 20:36:44 -0500 (Thu, 06 Nov 2025) EllapsedTime: 28.4 seconds RetCode: 0 Status: OK CheckDir: metabinR.Rcheck Warnings: 0