Package: metabinR Version: 1.12.0 Maintainer: Anestis Gkanogiannis MaintainerEmail: anestis at gkanogiannis.com git_url: https://git.bioconductor.org/packages/metabinR git_branch: RELEASE_3_22 git_last_commit: 5af1469 git_last_commit_date: 2025-10-29 11:19:59 -0500 (Wed, 29 Oct 2025)