Package: metaMS Version: 1.46.0 Command: /home/biocbuild/bbs-3.22-bioc/R/bin/R CMD INSTALL metaMS StartedAt: 2025-11-06 15:48:11 -0500 (Thu, 06 Nov 2025) EndedAt: 2025-11-06 15:48:59 -0500 (Thu, 06 Nov 2025) EllapsedTime: 48.0 seconds RetCode: 0 Status: OK