Package: metaMS Version: 1.46.0 Command: /home/biocbuild/bbs-3.22-bioc/R/bin/R CMD build --keep-empty-dirs --no-resave-data --md5 metaMS StartedAt: 2025-11-06 18:33:33 -0500 (Thu, 06 Nov 2025) EndedAt: 2025-11-06 18:34:39 -0500 (Thu, 06 Nov 2025) EllapsedTime: 66.1 seconds RetCode: 0 Status: OK PackageFile: metaMS_1.46.0.tar.gz PackageFileSize: 3.82 MiB